BEGIN:VCALENDAR
VERSION:2.0
PRODID:-//The official website of Burmese American Community Institute - ECPv6.15.11//NONSGML v1.0//EN
CALSCALE:GREGORIAN
METHOD:PUBLISH
X-WR-CALNAME:The official website of Burmese American Community Institute
X-ORIGINAL-URL:https://thebaci.org
X-WR-CALDESC:Events for The official website of Burmese American Community Institute
REFRESH-INTERVAL;VALUE=DURATION:PT1H
X-Robots-Tag:noindex
X-PUBLISHED-TTL:PT1H
BEGIN:VTIMEZONE
TZID:America/Indiana/Indianapolis
BEGIN:DAYLIGHT
TZOFFSETFROM:-0500
TZOFFSETTO:-0400
TZNAME:EDT
DTSTART:20240310T070000
END:DAYLIGHT
BEGIN:STANDARD
TZOFFSETFROM:-0400
TZOFFSETTO:-0500
TZNAME:EST
DTSTART:20241103T060000
END:STANDARD
BEGIN:DAYLIGHT
TZOFFSETFROM:-0500
TZOFFSETTO:-0400
TZNAME:EDT
DTSTART:20250309T070000
END:DAYLIGHT
BEGIN:STANDARD
TZOFFSETFROM:-0400
TZOFFSETTO:-0500
TZNAME:EST
DTSTART:20251102T060000
END:STANDARD
BEGIN:DAYLIGHT
TZOFFSETFROM:-0500
TZOFFSETTO:-0400
TZNAME:EDT
DTSTART:20260308T070000
END:DAYLIGHT
BEGIN:STANDARD
TZOFFSETFROM:-0400
TZOFFSETTO:-0500
TZNAME:EST
DTSTART:20261101T060000
END:STANDARD
END:VTIMEZONE
BEGIN:VEVENT
DTSTART;TZID=America/Indiana/Indianapolis:20250808T170000
DTEND;TZID=America/Indiana/Indianapolis:20250808T210000
DTSTAMP:20260425T095113
CREATED:20250729T152125Z
LAST-MODIFIED:20250729T152410Z
UID:11678-1754672400-1754686800@thebaci.org
SUMMARY:RSVP for 14th Annual Research Presentation Day
DESCRIPTION:Researchers from the Upward College Summer Scholars Program 2025\, under the BACI’s Center for Research\, Policy\, and Innovation (CRPI – USA)\, will present their research findings and solution-oriented policy action recommendations for stakeholders as the culmination of an intensive scientific PAR research project. \n  \nThe study this summer include the following eight topics: \n\nCollege Going Rate Among Burmese-American Students\nCollege Persistence Among Burmese-American Students\nCommunity Integration and Political Participation\nClimate Change: Communities Perspectives and Awareness\nPublic Health: Maternal and Child Health in Burmese American Community\nSocial Issues: Affordable Housing in Indiana and USA\nU.S. Refugee Resettlement Program and Secondary Migration\n\n  \nCommunity members and stakeholders are invited. \nPlease enable JavaScript in your browser to complete this form.Please enable JavaScript in your browser to complete this form.YOUR DETAILSName *FirstLastEmail *Phone *Are you registering as a *High School StudentCollege StudentParents of Research ScholarsCommunity MembersFriends and PartnersOtherIf you are attending as  "Friends and Partners"\, please state the name of Organization/Church/Company/etc  you are affiliating with or work with?Your Job Title (example\, Director\, Teacher\, Coordinator\, BoD\, etc)Questions or Concerns?Submit
URL:https://thebaci.org/event/rsvp-for-14th-annual-research-presentation-day/
LOCATION:UIndy Hall (Schwitzer Student Center) University of Indianapolis\, 1400 Campus Dr\, Indianapolis\, IN\, 46227\, United States
CATEGORIES:Advocacy,College & University,Community,Conference & Event,Education,Higher Education
ATTACH;FMTTYPE=image/jpeg:https://thebaci.org/wp-content/uploads/2025/07/2_L1000.jpg
END:VEVENT
END:VCALENDAR