BEGIN:VCALENDAR
VERSION:2.0
PRODID:-//The official website of Burmese American Community Institute - ECPv6.15.11//NONSGML v1.0//EN
CALSCALE:GREGORIAN
METHOD:PUBLISH
X-WR-CALNAME:The official website of Burmese American Community Institute
X-ORIGINAL-URL:https://thebaci.org
X-WR-CALDESC:Events for The official website of Burmese American Community Institute
REFRESH-INTERVAL;VALUE=DURATION:PT1H
X-Robots-Tag:noindex
X-PUBLISHED-TTL:PT1H
BEGIN:VTIMEZONE
TZID:America/Indiana/Indianapolis
BEGIN:DAYLIGHT
TZOFFSETFROM:-0500
TZOFFSETTO:-0400
TZNAME:EDT
DTSTART:20240310T070000
END:DAYLIGHT
BEGIN:STANDARD
TZOFFSETFROM:-0400
TZOFFSETTO:-0500
TZNAME:EST
DTSTART:20241103T060000
END:STANDARD
BEGIN:DAYLIGHT
TZOFFSETFROM:-0500
TZOFFSETTO:-0400
TZNAME:EDT
DTSTART:20250309T070000
END:DAYLIGHT
BEGIN:STANDARD
TZOFFSETFROM:-0400
TZOFFSETTO:-0500
TZNAME:EST
DTSTART:20251102T060000
END:STANDARD
BEGIN:DAYLIGHT
TZOFFSETFROM:-0500
TZOFFSETTO:-0400
TZNAME:EDT
DTSTART:20260308T070000
END:DAYLIGHT
BEGIN:STANDARD
TZOFFSETFROM:-0400
TZOFFSETTO:-0500
TZNAME:EST
DTSTART:20261101T060000
END:STANDARD
END:VTIMEZONE
BEGIN:VEVENT
DTSTART;TZID=America/Indiana/Indianapolis:20250725T170000
DTEND;TZID=America/Indiana/Indianapolis:20250725T210000
DTSTAMP:20260425T095924
CREATED:20250719T150822Z
LAST-MODIFIED:20250719T151238Z
UID:11654-1753462800-1753477200@thebaci.org
SUMMARY:RSVP for Burmese American Community Month Celebration
DESCRIPTION:We are thrilled to extend our cordial invitation to all community members\, friends and neighbors to Burmese American Community Month celebration– a Cultural and Entertainment Night on Friday\, July 25\, 2025 from 5:30pm-9:00pm at CEBC Life Center located at 5610 S Meridian St\, Indianapolis\, IN 46217. \nAt this special event\, various forms of entertainment items will be featured\, including live music\, dances\, and cultural shows. \nMiss Myanmar USA contest will be held where many of our beautiful young women will be participating. We will be crowning a new Miss Myanmar in this 3rd Miss Myanmar Pageant. \nDelicious food of Burmese and ethnic Myanmar such as Mala Xiang Guo (မာလာရှမ်းကော)\, Biryani (ဒံပေါက်)\, Air-Fried Pork (ဝက်သားကင်)\, and many more will be available for purchase. Food tables where you can eat with your family members will be set up for you. The event has been designed as a family friendly celebration and we invite you to bring your family and friends to enjoy various items freely. \nEntry is FREE and open to the public. We hope that you will join this historic event as we honor and celebrate our community achievements and contributions in Indiana.\nIf you have any questions\, please call us at 317-731-5537. We look forward to seeing you all there. \nRSVP is not required but it will help us with the logistics and planning. You may RSVP below:
URL:https://thebaci.org/event/burmese-american-community-month-celebration/
LOCATION:CEBC-Indy Life Center\, 5610 South Meridian St\, Indianapolis\, IN\, 46217\, United States
CATEGORIES:Community,Conference & Event,Cultural and People,Food and People
ATTACH;FMTTYPE=image/jpeg:https://thebaci.org/wp-content/uploads/2025/07/Main-Flyer-2025--scaled.jpg
ORGANIZER;CN="Burmese American Community Institute":MAILTO:info@baci-indy.org
END:VEVENT
END:VCALENDAR