BEGIN:VCALENDAR
VERSION:2.0
PRODID:-//The official website of Burmese American Community Institute - ECPv6.15.11//NONSGML v1.0//EN
CALSCALE:GREGORIAN
METHOD:PUBLISH
X-WR-CALNAME:The official website of Burmese American Community Institute
X-ORIGINAL-URL:https://thebaci.org
X-WR-CALDESC:Events for The official website of Burmese American Community Institute
REFRESH-INTERVAL;VALUE=DURATION:PT1H
X-Robots-Tag:noindex
X-PUBLISHED-TTL:PT1H
BEGIN:VTIMEZONE
TZID:America/Indiana/Indianapolis
BEGIN:DAYLIGHT
TZOFFSETFROM:-0500
TZOFFSETTO:-0400
TZNAME:EDT
DTSTART:20230312T070000
END:DAYLIGHT
BEGIN:STANDARD
TZOFFSETFROM:-0400
TZOFFSETTO:-0500
TZNAME:EST
DTSTART:20231105T060000
END:STANDARD
BEGIN:DAYLIGHT
TZOFFSETFROM:-0500
TZOFFSETTO:-0400
TZNAME:EDT
DTSTART:20240310T070000
END:DAYLIGHT
BEGIN:STANDARD
TZOFFSETFROM:-0400
TZOFFSETTO:-0500
TZNAME:EST
DTSTART:20241103T060000
END:STANDARD
BEGIN:DAYLIGHT
TZOFFSETFROM:-0500
TZOFFSETTO:-0400
TZNAME:EDT
DTSTART:20250309T070000
END:DAYLIGHT
BEGIN:STANDARD
TZOFFSETFROM:-0400
TZOFFSETTO:-0500
TZNAME:EST
DTSTART:20251102T060000
END:STANDARD
BEGIN:DAYLIGHT
TZOFFSETFROM:-0500
TZOFFSETTO:-0400
TZNAME:EDT
DTSTART:20260308T070000
END:DAYLIGHT
BEGIN:STANDARD
TZOFFSETFROM:-0400
TZOFFSETTO:-0500
TZNAME:EST
DTSTART:20261101T060000
END:STANDARD
BEGIN:DAYLIGHT
TZOFFSETFROM:-0500
TZOFFSETTO:-0400
TZNAME:EDT
DTSTART:20270314T070000
END:DAYLIGHT
BEGIN:STANDARD
TZOFFSETFROM:-0400
TZOFFSETTO:-0500
TZNAME:EST
DTSTART:20271107T060000
END:STANDARD
END:VTIMEZONE
BEGIN:VEVENT
DTSTART;VALUE=DATE:20240617
DTEND;VALUE=DATE:20261001
DTSTAMP:20260424T080957
CREATED:20240617T151633Z
LAST-MODIFIED:20241201T002206Z
UID:10578-1718582400-1790812799@thebaci.org
SUMMARY:English and Citizenship Class Registration Form
DESCRIPTION:ENGLISH AND CITIZENSHIP INSTRUCTIONS (ECI) \nAt our Civic and Cultural Program (CCEP)\, we help individuals to be prepared for your Citizenship Test! Register anytime. These classes will cover everything you’ll need to know to take the Citizenship test and help improve your English as well. All levels of English are welcome. All classes are currently held at BACI and West Perry Branch of Indianapolis Public Libraries. Admissions are conducted quarterly. The following is tentative class schedule: \nEnglish & Citizenship Instruction Classes Schedule (subject to be adjusted)\nMondays & Wednesdays: 9:30 AM-12:00 PM (BACI & West Perry)\nMondays & Tuesdays: 5:30 PM-8:00 PM\nMondays & Wednesdays: 5:30 PM-8:00 PM\nTuesdays & Thursdays: 9:30 AM-12:00 PM\nTuesdays & Thursdays: 5:30 PM-8:00 PM\nMondays & Fridays: 10:00 AM-12:00 PM (IPL Southport Branch)\nTuesdays & Thursdays: 10:00 AM-12:00 PM (IPL Nora Branch; TBC)\nBACI Center: 4925 Shelby St\, Suite 200\, Indianapolis\, IN 46227 \nTo enroll\, or if you would like to receive more information about ECI\, please fill out this pre-orientation registration form below. You may also contact us at (317) 731-5537\, or email to info@baci-indy.org. Walk-in registration also is available.\nPlease enable JavaScript in your browser to complete this form.Please enable JavaScript in your browser to complete this form.Name *FirstLastEmail *Phone *Comment or Question (optional)Submit
URL:https://thebaci.org/event/english-and-citizenship-class-registration-form/
CATEGORIES:Community,Cultural and People,Education,English and Civic Education,Programs,Service
ATTACH;FMTTYPE=image/jpeg:https://thebaci.org/wp-content/uploads/2024/06/1_C_2000_English-and-Citizenship.jpg
ORGANIZER;CN="Burmese American Community Institute":MAILTO:info@baci-indy.org
END:VEVENT
BEGIN:VEVENT
DTSTART;TZID=America/Indiana/Indianapolis:20251024T180000
DTEND;TZID=America/Indiana/Indianapolis:20251024T200000
DTSTAMP:20260424T080957
CREATED:20240912T213306Z
LAST-MODIFIED:20250414T010940Z
UID:10906-1761328800-1761336000@thebaci.org
SUMMARY:2025 Community Awards Dinner - Sponsorship Interest Form
DESCRIPTION:Kindly fill out the following form and we will be in touch shortly. \nPlease enable JavaScript in your browser to complete this form.Please enable JavaScript in your browser to complete this form.Company\, Group\, Individuals Interesting in Sponsorship *Name *FirstLastEmail *PhonePreferred Contact MethodEmailPhoneNo preferenceTell us a little more about yourself or your group (optional)Please indicate which sponsorship level you are seeking.DiamondPlatinumRubyGoldSilverWill you also be interested in the Community Dinner Program Ads opportunity?YesNoWe will be in touch shortly with you for more details on this opportunity.Additional Comments / RequestsSubmit
URL:https://thebaci.org/event/community-awards-dinner-sponsorship-interest-form/
LOCATION:UIndy Hall (Schwitzer Student Center) University of Indianapolis\, 1400 Campus Dr\, Indianapolis\, IN\, 46227\, United States
CATEGORIES:Advocacy,Awards and Honors,College & University,Community,Conference & Event,Cultural and People,Education,Employment,English and Civic Education,Food and People,Health,Higher Education,Partnership and Collaboration,Programs,Scholarship,Service,Sports and Games,Training and Orientation
ATTACH;FMTTYPE=image/jpeg:https://thebaci.org/wp-content/uploads/2024/09/Sponsor_Level.jpg
ORGANIZER;CN="Burmese American Community Institute":MAILTO:info@baci-indy.org
END:VEVENT
BEGIN:VEVENT
DTSTART;TZID=America/Indiana/Indianapolis:20251024T180000
DTEND;TZID=America/Indiana/Indianapolis:20251024T200000
DTSTAMP:20260424T080957
CREATED:20240912T214812Z
LAST-MODIFIED:20250414T005600Z
UID:10912-1761328800-1761336000@thebaci.org
SUMMARY:RSVP for Community Awards Dinner October 24
DESCRIPTION:RSVP form for Community Awards Ceremony to be held on October 24\, 2025 from 6:00 PM – 8:00 PM at the University of Indianapolis. For planning purposes\, we ask that the RSVP be made by October 15\, 2025. \nPlease enable JavaScript in your browser to complete this form.Please enable JavaScript in your browser to complete this form.Name *FirstLastEmail *Are you interested in individual tickets or group table?IndividualGroupOthersHow many guests will you be bringing (a table sits up to 10 persons)?Just me+1+2+3+4+5+7+8+9What are your or your guest(s) dietary restrictions?NoneVegetarianVeganGluten-freeDairy-freeOtherIf other...Please elaborate on any dietary restrictions that apply\, or let us know if there's anything else you'd like to tell us. Hope to see you soon *Submit  \n 
URL:https://thebaci.org/event/rsvp-for-community-awards-dinner-october-24/
LOCATION:UIndy Hall (Schwitzer Student Center) University of Indianapolis\, 1400 Campus Dr\, Indianapolis\, IN\, 46227\, United States
CATEGORIES:Advocacy,Awards and Honors,College & University,Community,Conference & Event,Cultural and People,Education,Employment,English and Civic Education,Food and People,Health,Higher Education,Partnership and Collaboration,Programs,Scholarship,Service,Sports and Games,Training and Orientation
ATTACH;FMTTYPE=image/jpeg:https://thebaci.org/wp-content/uploads/2025/04/Flyer_1-scaled.jpg
ORGANIZER;CN="Burmese American Community Institute":MAILTO:info@baci-indy.org
END:VEVENT
END:VCALENDAR