BEGIN:VCALENDAR
VERSION:2.0
PRODID:-//The official website of Burmese American Community Institute - ECPv6.15.11//NONSGML v1.0//EN
CALSCALE:GREGORIAN
METHOD:PUBLISH
X-ORIGINAL-URL:https://thebaci.org
X-WR-CALDESC:Events for The official website of Burmese American Community Institute
REFRESH-INTERVAL;VALUE=DURATION:PT1H
X-Robots-Tag:noindex
X-PUBLISHED-TTL:PT1H
BEGIN:VTIMEZONE
TZID:America/Indiana/Indianapolis
BEGIN:DAYLIGHT
TZOFFSETFROM:-0500
TZOFFSETTO:-0400
TZNAME:EDT
DTSTART:20230312T070000
END:DAYLIGHT
BEGIN:STANDARD
TZOFFSETFROM:-0400
TZOFFSETTO:-0500
TZNAME:EST
DTSTART:20231105T060000
END:STANDARD
BEGIN:DAYLIGHT
TZOFFSETFROM:-0500
TZOFFSETTO:-0400
TZNAME:EDT
DTSTART:20240310T070000
END:DAYLIGHT
BEGIN:STANDARD
TZOFFSETFROM:-0400
TZOFFSETTO:-0500
TZNAME:EST
DTSTART:20241103T060000
END:STANDARD
BEGIN:DAYLIGHT
TZOFFSETFROM:-0500
TZOFFSETTO:-0400
TZNAME:EDT
DTSTART:20250309T070000
END:DAYLIGHT
BEGIN:STANDARD
TZOFFSETFROM:-0400
TZOFFSETTO:-0500
TZNAME:EST
DTSTART:20251102T060000
END:STANDARD
BEGIN:DAYLIGHT
TZOFFSETFROM:-0500
TZOFFSETTO:-0400
TZNAME:EDT
DTSTART:20260308T070000
END:DAYLIGHT
BEGIN:STANDARD
TZOFFSETFROM:-0400
TZOFFSETTO:-0500
TZNAME:EST
DTSTART:20261101T060000
END:STANDARD
END:VTIMEZONE
BEGIN:VEVENT
DTSTART;TZID=America/Indiana/Indianapolis:20251024T180000
DTEND;TZID=America/Indiana/Indianapolis:20251024T200000
DTSTAMP:20260425T104444
CREATED:20240912T214812Z
LAST-MODIFIED:20250414T005600Z
UID:10912-1761328800-1761336000@thebaci.org
SUMMARY:RSVP for Community Awards Dinner October 24
DESCRIPTION:RSVP form for Community Awards Ceremony to be held on October 24\, 2025 from 6:00 PM – 8:00 PM at the University of Indianapolis. For planning purposes\, we ask that the RSVP be made by October 15\, 2025. \nPlease enable JavaScript in your browser to complete this form.Please enable JavaScript in your browser to complete this form.Name *FirstLastEmail *Are you interested in individual tickets or group table?IndividualGroupOthersHow many guests will you be bringing (a table sits up to 10 persons)?Just me+1+2+3+4+5+7+8+9What are your or your guest(s) dietary restrictions?NoneVegetarianVeganGluten-freeDairy-freeOtherIf other...Please elaborate on any dietary restrictions that apply\, or let us know if there's anything else you'd like to tell us. Hope to see you soon *Submit  \n 
URL:https://thebaci.org/event/rsvp-for-community-awards-dinner-october-24/
LOCATION:UIndy Hall (Schwitzer Student Center) University of Indianapolis\, 1400 Campus Dr\, Indianapolis\, IN\, 46227\, United States
CATEGORIES:Advocacy,Awards and Honors,College & University,Community,Conference & Event,Cultural and People,Education,Employment,English and Civic Education,Food and People,Health,Higher Education,Partnership and Collaboration,Programs,Scholarship,Service,Sports and Games,Training and Orientation
ATTACH;FMTTYPE=image/jpeg:https://thebaci.org/wp-content/uploads/2025/04/Flyer_1-scaled.jpg
ORGANIZER;CN="Burmese American Community Institute":MAILTO:info@baci-indy.org
END:VEVENT
BEGIN:VEVENT
DTSTART;TZID=America/Indiana/Indianapolis:20251024T180000
DTEND;TZID=America/Indiana/Indianapolis:20251024T200000
DTSTAMP:20260425T104444
CREATED:20240912T213306Z
LAST-MODIFIED:20250414T010940Z
UID:10906-1761328800-1761336000@thebaci.org
SUMMARY:2025 Community Awards Dinner - Sponsorship Interest Form
DESCRIPTION:Kindly fill out the following form and we will be in touch shortly. \nPlease enable JavaScript in your browser to complete this form.Please enable JavaScript in your browser to complete this form.Company\, Group\, Individuals Interesting in Sponsorship *Name *FirstLastEmail *PhonePreferred Contact MethodEmailPhoneNo preferenceTell us a little more about yourself or your group (optional)Please indicate which sponsorship level you are seeking.DiamondPlatinumRubyGoldSilverWill you also be interested in the Community Dinner Program Ads opportunity?YesNoWe will be in touch shortly with you for more details on this opportunity.Additional Comments / RequestsSubmit
URL:https://thebaci.org/event/community-awards-dinner-sponsorship-interest-form/
LOCATION:UIndy Hall (Schwitzer Student Center) University of Indianapolis\, 1400 Campus Dr\, Indianapolis\, IN\, 46227\, United States
CATEGORIES:Advocacy,Awards and Honors,College & University,Community,Conference & Event,Cultural and People,Education,Employment,English and Civic Education,Food and People,Health,Higher Education,Partnership and Collaboration,Programs,Scholarship,Service,Sports and Games,Training and Orientation
ATTACH;FMTTYPE=image/jpeg:https://thebaci.org/wp-content/uploads/2024/09/Sponsor_Level.jpg
ORGANIZER;CN="Burmese American Community Institute":MAILTO:info@baci-indy.org
END:VEVENT
BEGIN:VEVENT
DTSTART;TZID=America/Indiana/Indianapolis:20250128T110000
DTEND;TZID=America/Indiana/Indianapolis:20250128T120000
DTSTAMP:20260425T104444
CREATED:20241227T152155Z
LAST-MODIFIED:20241227T152453Z
UID:11153-1738062000-1738065600@thebaci.org
SUMMARY:U.S Citizenship and Immigration Service (USCIS)'s  Presentation Day
DESCRIPTION:A representative from the USCIS will be giving presentation about the process and updates of the US Naturalization and Family Petitions & Family Reunification. There will be Q&A session as well to take any questions or concerns that you may have with any other USCIS related topics. \n\nWhat: USCIS Presentation Day\nWhen: Tuesday\, January 28th\, 2025\nTime: 11:00AM – 12:00pm (Est)\nWhere: 4925 Shelby St\, SUITE 200\, Indianapolis\, IN 46227\n\nIf you have additional questions please call (Ph) 317-731-5537 (Cell) 317-739-9234. \nRegistration is not required but recommended. \nTo register please complete the followings: \nPlease enable JavaScript in your browser to complete this form.Please enable JavaScript in your browser to complete this form.Name *FirstLastPhone *EmailYour current US Immigration Status or US citizenship statusU.S citizenRefugeeAsyleeParoleeOtherWhat topic are you interested in the most?Naturalization ProcessFamily Unification/Family PetitionGreen CardOtherAny questions or concerns?Submit
URL:https://thebaci.org/event/uscis-presentation/
LOCATION:4925 Shelby St\, Indianapolis\, IN 46227
CATEGORIES:Community,English and Civic Education,Immigration and Legal Services,Partnership and Collaboration
ATTACH;FMTTYPE=image/jpeg:https://thebaci.org/wp-content/uploads/2024/12/Cover.jpg
ORGANIZER;CN="Burmese American Community Institute":MAILTO:info@baci-indy.org
END:VEVENT
BEGIN:VEVENT
DTSTART;TZID=America/Indiana/Indianapolis:20241002T130000
DTEND;TZID=America/Indiana/Indianapolis:20241002T160000
DTSTAMP:20260425T104444
CREATED:20240926T135643Z
LAST-MODIFIED:20240930T172333Z
UID:10994-1727874000-1727884800@thebaci.org
SUMMARY:Voter Registration Day!
DESCRIPTION:USA General Election is on November 5th\, 2024! \n\nWe will be hosting a Voter Registration Day on October 2nd\, 1-4 PM.\n\n\n\nIf you are a U.S Citizen\, an eligible to vote\, and need assistances or have questions in the following area please be sure to attend.\n\n\nRegister to Vote\nUpdate Voter Record\nCheck Voter Status\nRequest a Vote-by-Mail\nFind Election information\nGet Your Questions Answered
URL:https://thebaci.org/event/voter-registration-day/
LOCATION:4925 Shelby St\, Indianapolis\, IN 46227
CATEGORIES:Advocacy,Community,Education,English and Civic Education
ATTACH;FMTTYPE=image/jpeg:https://thebaci.org/wp-content/uploads/2024/09/Voter-Registration-Flyer-3.jpg
ORGANIZER;CN="Burmese American Community Institute":MAILTO:info@baci-indy.org
END:VEVENT
BEGIN:VEVENT
DTSTART;TZID=America/Indiana/Indianapolis:20240709T093000
DTEND;TZID=America/Indiana/Indianapolis:20240709T120000
DTSTAMP:20260425T104444
CREATED:20240704T051251Z
LAST-MODIFIED:20240705T222626Z
UID:10628-1720517400-1720526400@thebaci.org
SUMMARY:Celebration of Burmese American Community Month with CCEP ECI
DESCRIPTION:In honor of Burmese American Community month\, July\, the Civic and Cultural Program (CCEP) at Burmese American Community Institute would like to invite you to a special celebration with our English and Civic class students. We will feature interesting items\, including testimonial speech and light refreshments with a taste of Burmese and Southeast Asia. We look forward to celebrating this special time with you and our future U.S. citizens. \nPlease RSVP using the simple form below:
URL:https://thebaci.org/event/celebration-of-burmese-american-community-month-with-ccep-eci/
CATEGORIES:Community,Cultural and People,Education,English and Civic Education,Partnership and Collaboration
ATTACH;FMTTYPE=image/jpeg:https://thebaci.org/wp-content/uploads/2024/07/ECI-Burmese-American-Month-1-scaled.jpg
ORGANIZER;CN="Burmese American Community Institute":MAILTO:info@baci-indy.org
END:VEVENT
END:VCALENDAR