BEGIN:VCALENDAR
VERSION:2.0
PRODID:-//The official website of Burmese American Community Institute - ECPv6.15.11//NONSGML v1.0//EN
CALSCALE:GREGORIAN
METHOD:PUBLISH
X-WR-CALNAME:The official website of Burmese American Community Institute
X-ORIGINAL-URL:https://thebaci.org
X-WR-CALDESC:Events for The official website of Burmese American Community Institute
REFRESH-INTERVAL;VALUE=DURATION:PT1H
X-Robots-Tag:noindex
X-PUBLISHED-TTL:PT1H
BEGIN:VTIMEZONE
TZID:America/Indiana/Indianapolis
BEGIN:DAYLIGHT
TZOFFSETFROM:-0500
TZOFFSETTO:-0400
TZNAME:EDT
DTSTART:20220313T070000
END:DAYLIGHT
BEGIN:STANDARD
TZOFFSETFROM:-0400
TZOFFSETTO:-0500
TZNAME:EST
DTSTART:20221106T060000
END:STANDARD
BEGIN:DAYLIGHT
TZOFFSETFROM:-0500
TZOFFSETTO:-0400
TZNAME:EDT
DTSTART:20230312T070000
END:DAYLIGHT
BEGIN:STANDARD
TZOFFSETFROM:-0400
TZOFFSETTO:-0500
TZNAME:EST
DTSTART:20231105T060000
END:STANDARD
BEGIN:DAYLIGHT
TZOFFSETFROM:-0500
TZOFFSETTO:-0400
TZNAME:EDT
DTSTART:20240310T070000
END:DAYLIGHT
BEGIN:STANDARD
TZOFFSETFROM:-0400
TZOFFSETTO:-0500
TZNAME:EST
DTSTART:20241103T060000
END:STANDARD
BEGIN:DAYLIGHT
TZOFFSETFROM:-0500
TZOFFSETTO:-0400
TZNAME:EDT
DTSTART:20250309T070000
END:DAYLIGHT
BEGIN:STANDARD
TZOFFSETFROM:-0400
TZOFFSETTO:-0500
TZNAME:EST
DTSTART:20251102T060000
END:STANDARD
BEGIN:DAYLIGHT
TZOFFSETFROM:-0500
TZOFFSETTO:-0400
TZNAME:EDT
DTSTART:20260308T070000
END:DAYLIGHT
BEGIN:STANDARD
TZOFFSETFROM:-0400
TZOFFSETTO:-0500
TZNAME:EST
DTSTART:20261101T060000
END:STANDARD
END:VTIMEZONE
BEGIN:VEVENT
DTSTART;TZID=America/Indiana/Indianapolis:20251024T180000
DTEND;TZID=America/Indiana/Indianapolis:20251024T200000
DTSTAMP:20260424T005432
CREATED:20240912T214812Z
LAST-MODIFIED:20250414T005600Z
UID:10912-1761328800-1761336000@thebaci.org
SUMMARY:RSVP for Community Awards Dinner October 24
DESCRIPTION:RSVP form for Community Awards Ceremony to be held on October 24\, 2025 from 6:00 PM – 8:00 PM at the University of Indianapolis. For planning purposes\, we ask that the RSVP be made by October 15\, 2025. \nPlease enable JavaScript in your browser to complete this form.Please enable JavaScript in your browser to complete this form.Name *FirstLastEmail *Are you interested in individual tickets or group table?IndividualGroupOthersHow many guests will you be bringing (a table sits up to 10 persons)?Just me+1+2+3+4+5+7+8+9What are your or your guest(s) dietary restrictions?NoneVegetarianVeganGluten-freeDairy-freeOtherIf other...Please elaborate on any dietary restrictions that apply\, or let us know if there's anything else you'd like to tell us. Hope to see you soon *Submit  \n 
URL:https://thebaci.org/event/rsvp-for-community-awards-dinner-october-24/
LOCATION:UIndy Hall (Schwitzer Student Center) University of Indianapolis\, 1400 Campus Dr\, Indianapolis\, IN\, 46227\, United States
CATEGORIES:Advocacy,Awards and Honors,College & University,Community,Conference & Event,Cultural and People,Education,Employment,English and Civic Education,Food and People,Health,Higher Education,Partnership and Collaboration,Programs,Scholarship,Service,Sports and Games,Training and Orientation
ATTACH;FMTTYPE=image/jpeg:https://thebaci.org/wp-content/uploads/2025/04/Flyer_1-scaled.jpg
ORGANIZER;CN="Burmese American Community Institute":MAILTO:info@baci-indy.org
END:VEVENT
BEGIN:VEVENT
DTSTART;TZID=America/Indiana/Indianapolis:20251024T180000
DTEND;TZID=America/Indiana/Indianapolis:20251024T200000
DTSTAMP:20260424T005432
CREATED:20240912T213306Z
LAST-MODIFIED:20250414T010940Z
UID:10906-1761328800-1761336000@thebaci.org
SUMMARY:2025 Community Awards Dinner - Sponsorship Interest Form
DESCRIPTION:Kindly fill out the following form and we will be in touch shortly. \nPlease enable JavaScript in your browser to complete this form.Please enable JavaScript in your browser to complete this form.Company\, Group\, Individuals Interesting in Sponsorship *Name *FirstLastEmail *PhonePreferred Contact MethodEmailPhoneNo preferenceTell us a little more about yourself or your group (optional)Please indicate which sponsorship level you are seeking.DiamondPlatinumRubyGoldSilverWill you also be interested in the Community Dinner Program Ads opportunity?YesNoWe will be in touch shortly with you for more details on this opportunity.Additional Comments / RequestsSubmit
URL:https://thebaci.org/event/community-awards-dinner-sponsorship-interest-form/
LOCATION:UIndy Hall (Schwitzer Student Center) University of Indianapolis\, 1400 Campus Dr\, Indianapolis\, IN\, 46227\, United States
CATEGORIES:Advocacy,Awards and Honors,College & University,Community,Conference & Event,Cultural and People,Education,Employment,English and Civic Education,Food and People,Health,Higher Education,Partnership and Collaboration,Programs,Scholarship,Service,Sports and Games,Training and Orientation
ATTACH;FMTTYPE=image/jpeg:https://thebaci.org/wp-content/uploads/2024/09/Sponsor_Level.jpg
ORGANIZER;CN="Burmese American Community Institute":MAILTO:info@baci-indy.org
END:VEVENT
BEGIN:VEVENT
DTSTART;TZID=America/Indiana/Indianapolis:20251008T090000
DTEND;TZID=America/Indiana/Indianapolis:20251008T170000
DTSTAMP:20260424T005432
CREATED:20251001T171603Z
LAST-MODIFIED:20251001T181205Z
UID:11745-1759914000-1759942800@thebaci.org
SUMMARY:Free Application of Federal Student Aid (FAFSA) workshop for local high school seniors
DESCRIPTION:BACI is hosting a free FAFSA workshop for the senior high school students and parents who wants to learn about FAFSA and its application process and/or get technical assistances with the applications.\n\nDid you know that all high school seniors are recommended to complete the Free Application of Federal Student Aid (FAFSA)?\nIt reviews your application and decides if you are eligible for how much grants\, scholarships\, and other financial aid for your post secondary education.\n \nIf you have not started and you wish to\n\n\n1) get technical assistance with the FAFSA\n2) get appointments with the BACI staff and mentors\n \nyou can plan to attend our the BACI’s FAFSA Workshop on October 8th and 14th.\n\n\nIf you are interested\, please scan the QR Code and complete a simple questionnaire to sign-up.\n\n\n\n\nWe will reach out to you and your parent/s with reminders and schedules.
URL:https://thebaci.org/event/free-application-of-federal-student-aid-fafsa-workshop-for-local-high-school-seniors/
LOCATION:5212 Bluff Rd\, Indianapolis\, IN 46217
CATEGORIES:College & University,Community,Education,Programs,Scholarship,Service
ATTACH;FMTTYPE=image/jpeg:https://thebaci.org/wp-content/uploads/2025/10/Fafsa-Workshop-3.jpg
ORGANIZER;CN="Burmese American Community Institute":MAILTO:info@baci-indy.org
END:VEVENT
BEGIN:VEVENT
DTSTART;TZID=America/Indiana/Indianapolis:20240618T120000
DTEND;TZID=America/Indiana/Indianapolis:20240618T150000
DTSTAMP:20260424T005432
CREATED:20240404T190901Z
LAST-MODIFIED:20240605T141340Z
UID:10480-1718712000-1718722800@thebaci.org
SUMMARY:13th Annual College & Youth Summit
DESCRIPTION:The Burmese American Community Institute is hosting its 13th Annual College & Youth Summit on June 18\, 2024 from 12:00 PM-3:00 PM at the University of Indianapolis\, Health Pavilion. At the event\, representatives from various universities/colleges will give useful information about their individual campuses\, academic programs\, scholarship opportunities\, etc. At a Panel Discussion\, current students and professionals from different backgrounds will share their experiences on their academic and professional journey. The participants will also have the opportunity to engage with Q&A and network with others. Please register to attend this FREE event by filling the following simple and short form. \n  \nPlease enable JavaScript in your browser to complete this form.Please enable JavaScript in your browser to complete this form.Name *FirstLastEmail *Phone Number *AddressZip Code *Are you? *High School StudentUniversity StudentPanelistUniversity RepresentativeParentsMiddle School StudentOthers friends and partnersIf you are a high school or middle school student\, what grade/year are you in?FreshmenSophomoreJuniorSeniorMiddle School StudentOtherIf you are a high school or middle school student\, what is the name of your school?What information would you like to take away the most out of this event?Any questions or concerns?How did you hear about this event? *E.g. Social media\, friends and family\, email\, etc. Submit
URL:https://thebaci.org/event/13th-annual-college-youth-summit/
LOCATION:University of Indianapolis\, Health Pavilion\, 1643 E Hanna Ave\, Indianapolis\, IN\, 46227\, United States
CATEGORIES:College & University,Community,Conference & Event,Education,Higher Education,Partnership and Collaboration,Scholarship
ATTACH;FMTTYPE=image/png:https://thebaci.org/wp-content/uploads/2024/04/13th-Annual-College-and-Youth-Summit-3.png
ORGANIZER;CN="Burmese American Community Institute":MAILTO:info@baci-indy.org
END:VEVENT
BEGIN:VEVENT
DTSTART;TZID=America/Indiana/Indianapolis:20230804T170000
DTEND;TZID=America/Indiana/Indianapolis:20230804T210000
DTSTAMP:20260424T005432
CREATED:20230719T110721Z
LAST-MODIFIED:20230803T174945Z
UID:9383-1691168400-1691182800@thebaci.org
SUMMARY:BACI 12th Annual Research Presentation Day
DESCRIPTION:Researchers from the Upward College Summer Scholars Program 2023\, under the BACI’s Center for Research\, Policy\, and Innovation (CRPI – USA)\, will present their research findings and solution-oriented policy action recommendations for stakeholders as the culmination of a 10-week intensive scientific PAR research project. \nThe study this summer include the following eight topics: \n\nCollege Going Rate Among Burmese-American Students\nCollege Persistence Among Burmese-American Students\nCommunity Integration and Political Participation\nEqual Employment Opportunity & Career Pathways\nGlobal Climate Change & Its Impact on the Local Communities\nMental Health in Burmese American Community\nSocial Media & Its Impact on the Youths\nU.S. Refugee Resettlement Program and Secondary Migration\n\nCommunity members and stakeholders are invited.\nPlease enable JavaScript in your browser to complete this form.Please enable JavaScript in your browser to complete this form.YOUR DETAILSName *FirstLastEmail *PhoneOrganization/Church *Address (optional)Address Line 1Address Line 2CityState / Province / RegionPostal CodeAfghanistanAlbaniaAlgeriaAmerican SamoaAndorraAngolaAnguillaAntarcticaAntigua and BarbudaArgentinaArmeniaArubaAustraliaAustriaAzerbaijanBahamasBahrainBangladeshBarbadosBelarusBelgiumBelizeBeninBermudaBhutanBolivia (Plurinational State of)Bonaire\, Saint Eustatius and SabaBosnia and HerzegovinaBotswanaBouvet IslandBrazilBritish Indian Ocean TerritoryBrunei DarussalamBulgariaBurkina FasoBurundiCabo VerdeCambodiaCameroonCanadaCayman IslandsCentral African RepublicChadChileChinaChristmas IslandCocos (Keeling) IslandsColombiaComorosCongoCongo (Democratic Republic of the)Cook IslandsCosta RicaCroatiaCubaCuraçaoCyprusCzech RepublicCôte d'IvoireDenmarkDjiboutiDominicaDominican RepublicEcuadorEgyptEl SalvadorEquatorial GuineaEritreaEstoniaEswatini (Kingdom of)EthiopiaFalkland Islands (Malvinas)Faroe IslandsFijiFinlandFranceFrench GuianaFrench PolynesiaFrench Southern TerritoriesGabonGambiaGeorgiaGermanyGhanaGibraltarGreeceGreenlandGrenadaGuadeloupeGuamGuatemalaGuernseyGuineaGuinea-BissauGuyanaHaitiHeard Island and McDonald IslandsHondurasHong KongHungaryIcelandIndiaIndonesiaIran (Islamic Republic of)IraqIreland (Republic of)Isle of ManIsraelItalyJamaicaJapanJerseyJordanKazakhstanKenyaKiribatiKorea (Democratic People's Republic of)Korea (Republic of)KosovoKuwaitKyrgyzstanLao People's Democratic RepublicLatviaLebanonLesothoLiberiaLibyaLiechtensteinLithuaniaLuxembourgMacaoMadagascarMalawiMalaysiaMaldivesMaliMaltaMarshall IslandsMartiniqueMauritaniaMauritiusMayotteMexicoMicronesia (Federated States of)Moldova (Republic of)MonacoMongoliaMontenegroMontserratMoroccoMozambiqueMyanmarNamibiaNauruNepalNetherlandsNew CaledoniaNew ZealandNicaraguaNigerNigeriaNiueNorfolk IslandNorth Macedonia (Republic of)Northern Mariana IslandsNorwayOmanPakistanPalauPalestine (State of)PanamaPapua New GuineaParaguayPeruPhilippinesPitcairnPolandPortugalPuerto RicoQatarRomaniaRussian FederationRwandaRéunionSaint BarthélemySaint Helena\, Ascension and Tristan da CunhaSaint Kitts and NevisSaint LuciaSaint Martin (French part)Saint Pierre and MiquelonSaint Vincent and the GrenadinesSamoaSan MarinoSao Tome and PrincipeSaudi ArabiaSenegalSerbiaSeychellesSierra LeoneSingaporeSint Maarten (Dutch part)SlovakiaSloveniaSolomon IslandsSomaliaSouth AfricaSouth Georgia and the South Sandwich IslandsSouth SudanSpainSri LankaSudanSurinameSvalbard and Jan MayenSwedenSwitzerlandSyrian Arab RepublicTaiwan\, Republic of ChinaTajikistanTanzania (United Republic of)ThailandTimor-LesteTogoTokelauTongaTrinidad and TobagoTunisiaTurkmenistanTurks and Caicos IslandsTuvaluTürkiyeUgandaUkraineUnited Arab EmiratesUnited Kingdom of Great Britain and Northern IrelandUnited States Minor Outlying IslandsUnited States of AmericaUruguayUzbekistanVanuatuVatican City StateVenezuela (Bolivarian Republic of)VietnamVirgin Islands (British)Virgin Islands (U.S.)Wallis and FutunaWestern SaharaYemenZambiaZimbabweÅland IslandsCountryAre you registering as a *High School StudentCollege StudentParents of Research ScholarsCommunity MembersFriends and PartnersOtherComment/tell us anything you would like us to know (optional).Submit
URL:https://thebaci.org/event/baci-12th-annual-research-presentation-day/
LOCATION:UIndy Hall (Schwitzer Student Center) University of Indianapolis\, 1400 Campus Dr\, Indianapolis\, IN\, 46227\, United States
CATEGORIES:College & University,Cultural and People,Education,Food and People,Health,Higher Education,Programs,Scholarship,Sports and Games,Training and Orientation
ATTACH;FMTTYPE=image/jpeg:https://thebaci.org/wp-content/uploads/2023/07/12th-Annual-Research-Presentation-Flyer-scaled.jpg
ORGANIZER;CN="Burmese American Community Institute":MAILTO:info@baci-indy.org
END:VEVENT
BEGIN:VEVENT
DTSTART;TZID=America/Indiana/Indianapolis:20230801T173000
DTEND;TZID=America/Indiana/Indianapolis:20230929T220000
DTSTAMP:20260424T005432
CREATED:20230706T185031Z
LAST-MODIFIED:20230821T222038Z
UID:9285-1690911000-1696024800@thebaci.org
SUMMARY:Community Awards Dinner - 30 Years of Burmese Community in Central Indiana
DESCRIPTION:Community Awards Dinner in celebration of 30 Years of Burmese Community in Central Indiana will be held on July 12\, 2023 at 5:30 PM at CEBC Life Center located at 5610 S Meridian St\, Indianapolis\, IN 46217. \nAt this historic event\, the outstanding Burmese individuals and organizations (all ethnic groups of Burma/Myanmar inclusively) in various categories in the past 30 years will be recognized for their outstanding accomplishments and their contributions to the greater good of our shared community. We will also feature keynotes\, cultural performances\, music and other special items. \nClick here for Nomination Forms.
URL:https://thebaci.org/event/community-awards-dinner-30-years-of-burmese-community-in-central-indiana/
LOCATION:CEBC-Indy Life Center\, 5610 South Meridian St\, Indianapolis\, IN\, 46217\, United States
CATEGORIES:Awards and Honors,College & University,Community,Cultural and People,Education,Food and People,Health,Higher Education,Partnership and Collaboration,Programs,Scholarship,Sports and Games,Training and Orientation
ATTACH;FMTTYPE=image/jpeg:https://thebaci.org/wp-content/uploads/2023/07/Nomination-Flyer-scaled.jpg
ORGANIZER;CN="Burmese American Community Institute":MAILTO:info@baci-indy.org
END:VEVENT
BEGIN:VEVENT
DTSTART;TZID=America/Indiana/Indianapolis:20230712T173000
DTEND;TZID=America/Indiana/Indianapolis:20230712T203000
DTSTAMP:20260424T005432
CREATED:20230618T000700Z
LAST-MODIFIED:20230706T184020Z
UID:9222-1689183000-1689193800@thebaci.org
SUMMARY:Miss Myanmar Contestants Nomination/Registration Form
DESCRIPTION:Register today to become Miss Myanmar (Burmese Community in Central Indiana)\nFinal contest will be held on July 12\, 2023 at 5:30 PM – 8:30 PM \nQualifications and Criteria For Competition \n\nMust be of Burmese origin (Any ethnic group of Burma/Myanmar)\nMust be resident of Indianapolis\, or Central Indiana\nMust be 16 years of age or older\n\nIncentive and Opportunity  \n\n$1\,000 scholarship\nConnection and networking opportunities with community leaders and stakeholders\nGood opportunity to build resume\nInvitation to BACI events and events hosted by partner organizations and government agencies locally and nationally\n\nAdditional Qualifications and Expectations  \n\nMust not have a criminal record nor participate in criminal acts\nMust demonstrate a good character and well-mannered behavior\nWilling to advocate for the community and for Myanmar when possible and appropriate\n\nThe form will be closed on July 3\, 2023 \nPlease enable JavaScript in your browser to complete this form.Please enable JavaScript in your browser to complete this form.Full Name *Phone Number *Email *Education Status (School\, Year\, Major/Minor): *Ethnicity  *E.g. Chin\, Kachin\, Kayah (Karenni)\, Karen\, Mon\, Shan\, Rakhine\, Bamar\, etcPreferred Contact Method:  *Registered bySelfOtherIf other\, this form is completed or nominated by Full NameFirstLastEmailSubmit
URL:https://thebaci.org/event/miss-myanmar-contestants-registration/
LOCATION:CEBC-Indy Life Center\, 5610 South Meridian St\, Indianapolis\, IN\, 46217\, United States
CATEGORIES:Cultural and People,Education,Scholarship
ATTACH;FMTTYPE=image/jpeg:https://thebaci.org/wp-content/uploads/2023/06/Miss-Myanmar-Flyer.jpg
ORGANIZER;CN="Burmese American Community Institute":MAILTO:info@baci-indy.org
END:VEVENT
BEGIN:VEVENT
DTSTART;TZID=America/Indiana/Indianapolis:20230613T130000
DTEND;TZID=America/Indiana/Indianapolis:20230613T150000
DTSTAMP:20260424T005432
CREATED:20230602T165924Z
LAST-MODIFIED:20230602T174853Z
UID:9145-1686661200-1686668400@thebaci.org
SUMMARY:12th Annual College & Youth Summit
DESCRIPTION:The Burmese American Community Institute is hosting its 12th Annual College & Youth Summit on June 13\, 2023 from 1:00 PM-3:00 PM at the University of Indianapolis\, UIndy Hall. At the event\, representatives from various universities/colleges will give useful information about their individual campuses\, academic programs\, scholarship opportunities\, etc. \nAt a Panel Discussion\, current students and professionals from different backgrounds will share their experiences on their academic and professional journey. \nThe participants will also have the opportunity to engage with Q&A and network with others. Please register to attend this FREE event by filling the following simple and short form. Thank you. \nPlease enable JavaScript in your browser to complete this form.Please enable JavaScript in your browser to complete this form.Full Name *Email *Phone Number *AddressZip Code *Are you? *High School StudentUniversity StudentPanelistUniversity RepresentativeParentsMiddle School StudentOthersIf you are a student\, what grade/year are you in?FreshmenSophomoreJuniorSeniorMiddle School StudentOtherWhat information would you like to take away the most out of this event?Any questions or concerns?How did you hear about this event? *E.g. Social media\, friends and family\, email\, etc. Submit
URL:https://thebaci.org/event/12th-annual-college-youth-summit/
LOCATION:UIndy Hall (Schwitzer Student Center) University of Indianapolis\, 1400 Campus Dr\, Indianapolis\, IN\, 46227\, United States
CATEGORIES:College & University,Education,Higher Education,Programs,Scholarship
ATTACH;FMTTYPE=image/png:https://thebaci.org/wp-content/uploads/2023/06/12th-Annual-College-Summit-Flyer-2.png
ORGANIZER;CN="Burmese American Community Institute":MAILTO:info@baci-indy.org
END:VEVENT
END:VCALENDAR