BEGIN:VCALENDAR
VERSION:2.0
PRODID:-//The official website of Burmese American Community Institute - ECPv6.15.11//NONSGML v1.0//EN
CALSCALE:GREGORIAN
METHOD:PUBLISH
X-ORIGINAL-URL:https://thebaci.org
X-WR-CALDESC:Events for The official website of Burmese American Community Institute
REFRESH-INTERVAL;VALUE=DURATION:PT1H
X-Robots-Tag:noindex
X-PUBLISHED-TTL:PT1H
BEGIN:VTIMEZONE
TZID:America/Indiana/Indianapolis
BEGIN:DAYLIGHT
TZOFFSETFROM:-0500
TZOFFSETTO:-0400
TZNAME:EDT
DTSTART:20220313T070000
END:DAYLIGHT
BEGIN:STANDARD
TZOFFSETFROM:-0400
TZOFFSETTO:-0500
TZNAME:EST
DTSTART:20221106T060000
END:STANDARD
BEGIN:DAYLIGHT
TZOFFSETFROM:-0500
TZOFFSETTO:-0400
TZNAME:EDT
DTSTART:20230312T070000
END:DAYLIGHT
BEGIN:STANDARD
TZOFFSETFROM:-0400
TZOFFSETTO:-0500
TZNAME:EST
DTSTART:20231105T060000
END:STANDARD
BEGIN:DAYLIGHT
TZOFFSETFROM:-0500
TZOFFSETTO:-0400
TZNAME:EDT
DTSTART:20240310T070000
END:DAYLIGHT
BEGIN:STANDARD
TZOFFSETFROM:-0400
TZOFFSETTO:-0500
TZNAME:EST
DTSTART:20241103T060000
END:STANDARD
BEGIN:DAYLIGHT
TZOFFSETFROM:-0500
TZOFFSETTO:-0400
TZNAME:EDT
DTSTART:20250309T070000
END:DAYLIGHT
BEGIN:STANDARD
TZOFFSETFROM:-0400
TZOFFSETTO:-0500
TZNAME:EST
DTSTART:20251102T060000
END:STANDARD
BEGIN:DAYLIGHT
TZOFFSETFROM:-0500
TZOFFSETTO:-0400
TZNAME:EDT
DTSTART:20260308T070000
END:DAYLIGHT
BEGIN:STANDARD
TZOFFSETFROM:-0400
TZOFFSETTO:-0500
TZNAME:EST
DTSTART:20261101T060000
END:STANDARD
BEGIN:DAYLIGHT
TZOFFSETFROM:-0500
TZOFFSETTO:-0400
TZNAME:EDT
DTSTART:20270314T070000
END:DAYLIGHT
BEGIN:STANDARD
TZOFFSETFROM:-0400
TZOFFSETTO:-0500
TZNAME:EST
DTSTART:20271107T060000
END:STANDARD
END:VTIMEZONE
BEGIN:VEVENT
DTSTART;TZID=America/Indiana/Indianapolis:20260327T080000
DTEND;TZID=America/Indiana/Indianapolis:20260327T170000
DTSTAMP:20260424T054939
CREATED:20260317T194147Z
LAST-MODIFIED:20260401T184238Z
UID:12003-1774598400-1774630800@thebaci.org
SUMMARY:Forklift Training Workshop
DESCRIPTION:Join our hands-on Forklift Training Class to learn safe operation\, OSHA-compliant practices\, load handling\, and hazard awareness. No experience needed. Get certified and Job-Ready Fast… Enroll today! \n\n\nIn Person\nFinish in 1 day\nCertificate of Completion\n\nRegistration Deadline: March 27th \n\nအသိအမှတ်ပြုလက်မှတ်ရယူပြီး အလုပ်အတွက် မြန်မြန်အဆင်သင့်ဖြစ်ပါစေ… ဒီနေ့ပဲ စာရင်းသွင်းလိုက်ပါ။ \nဘေးကင်းစွာလည်ပတ်မှု၊ OSHA နှင့်ကိုက်ညီသော အလေ့အကျင့်များ၊ ဝန်တင်ကိုင်တွယ်မှုနှင့် အန္တရာယ်အသိပညာများကို လေ့လာရန် ကျွန်ုပ်တို့၏ လက်တွေ့ Forklift လေ့ကျင့်ရေးသင်တန်းတွင် ပါဝင်လိုက်ပါ။ အတွေ့အကြုံမလိုအပ်ပါ။ Registration Deadline: March 27th \nForklift certification ngeih le rian tuan ding na duh ahcun\, na min rak pe ve!  \nHi Forklift cawnnak ah hin him tein mawngh ning\, OSHA phunglam \, thilrit chiah le thiar ning\, le ralvennak hna kha cawn a si lai. Experience ngeih a haulo. Registration Deadline: March 27th \n(Registration has closed)
URL:https://thebaci.org/event/forklift-training-workshop/
CATEGORIES:Community,Education,Employment,Programs,Training and Orientation
ATTACH;FMTTYPE=image/jpeg:https://thebaci.org/wp-content/uploads/2026/03/Forklift-Training-Workshop-Flyer.jpg
ORGANIZER;CN="Burmese American Community Institute":MAILTO:info@baci-indy.org
END:VEVENT
BEGIN:VEVENT
DTSTART;TZID=America/Indiana/Indianapolis:20251024T180000
DTEND;TZID=America/Indiana/Indianapolis:20251024T200000
DTSTAMP:20260424T054939
CREATED:20240912T214812Z
LAST-MODIFIED:20250414T005600Z
UID:10912-1761328800-1761336000@thebaci.org
SUMMARY:RSVP for Community Awards Dinner October 24
DESCRIPTION:RSVP form for Community Awards Ceremony to be held on October 24\, 2025 from 6:00 PM – 8:00 PM at the University of Indianapolis. For planning purposes\, we ask that the RSVP be made by October 15\, 2025. \nPlease enable JavaScript in your browser to complete this form.Please enable JavaScript in your browser to complete this form.Name *FirstLastEmail *Are you interested in individual tickets or group table?IndividualGroupOthersHow many guests will you be bringing (a table sits up to 10 persons)?Just me+1+2+3+4+5+7+8+9What are your or your guest(s) dietary restrictions?NoneVegetarianVeganGluten-freeDairy-freeOtherIf other...Please elaborate on any dietary restrictions that apply\, or let us know if there's anything else you'd like to tell us. Hope to see you soon *Submit  \n 
URL:https://thebaci.org/event/rsvp-for-community-awards-dinner-october-24/
LOCATION:UIndy Hall (Schwitzer Student Center) University of Indianapolis\, 1400 Campus Dr\, Indianapolis\, IN\, 46227\, United States
CATEGORIES:Advocacy,Awards and Honors,College & University,Community,Conference & Event,Cultural and People,Education,Employment,English and Civic Education,Food and People,Health,Higher Education,Partnership and Collaboration,Programs,Scholarship,Service,Sports and Games,Training and Orientation
ATTACH;FMTTYPE=image/jpeg:https://thebaci.org/wp-content/uploads/2025/04/Flyer_1-scaled.jpg
ORGANIZER;CN="Burmese American Community Institute":MAILTO:info@baci-indy.org
END:VEVENT
BEGIN:VEVENT
DTSTART;TZID=America/Indiana/Indianapolis:20251024T180000
DTEND;TZID=America/Indiana/Indianapolis:20251024T200000
DTSTAMP:20260424T054939
CREATED:20240912T213306Z
LAST-MODIFIED:20250414T010940Z
UID:10906-1761328800-1761336000@thebaci.org
SUMMARY:2025 Community Awards Dinner - Sponsorship Interest Form
DESCRIPTION:Kindly fill out the following form and we will be in touch shortly. \nPlease enable JavaScript in your browser to complete this form.Please enable JavaScript in your browser to complete this form.Company\, Group\, Individuals Interesting in Sponsorship *Name *FirstLastEmail *PhonePreferred Contact MethodEmailPhoneNo preferenceTell us a little more about yourself or your group (optional)Please indicate which sponsorship level you are seeking.DiamondPlatinumRubyGoldSilverWill you also be interested in the Community Dinner Program Ads opportunity?YesNoWe will be in touch shortly with you for more details on this opportunity.Additional Comments / RequestsSubmit
URL:https://thebaci.org/event/community-awards-dinner-sponsorship-interest-form/
LOCATION:UIndy Hall (Schwitzer Student Center) University of Indianapolis\, 1400 Campus Dr\, Indianapolis\, IN\, 46227\, United States
CATEGORIES:Advocacy,Awards and Honors,College & University,Community,Conference & Event,Cultural and People,Education,Employment,English and Civic Education,Food and People,Health,Higher Education,Partnership and Collaboration,Programs,Scholarship,Service,Sports and Games,Training and Orientation
ATTACH;FMTTYPE=image/jpeg:https://thebaci.org/wp-content/uploads/2024/09/Sponsor_Level.jpg
ORGANIZER;CN="Burmese American Community Institute":MAILTO:info@baci-indy.org
END:VEVENT
BEGIN:VEVENT
DTSTART;VALUE=DATE:20241101
DTEND;VALUE=DATE:20251208
DTSTAMP:20260424T054939
CREATED:20241108T205630Z
LAST-MODIFIED:20241127T154658Z
UID:11085-1730419200-1765151999@thebaci.org
SUMMARY:Certification Program Registration Form - BACI SEED
DESCRIPTION:Are you ready to elevate your career? The Certification Program under the BACI Small Business Enterprise and Economic Development (SEED) can help you achieve your training and career goals. \nWe will help you to enroll and complete a Certificate Program offered by various colleges and institutions as part of the Indiana Next Level Jobs. Examples of the areas of the certificate program include: \n\nADVANCED MANUFACTURING\nBUILDING & CONSTRUCTION\nEARLY CHILDHOOD EDUCATION\nHEALTH & LIFE SCIENCES\nIT & BUSINESS SERVICES\nTRANSPORTATION & LOGISTICS\n\nScholarships available. Please register with the following initial form and we will be in touch shortly to schedule an orientation meeting. \n\n\n\n\n\nPlease enable JavaScript in your browser to complete this form.Please enable JavaScript in your browser to complete this form.Name *Email *Phone # *Address (Include zip code) *Date of Arrival in the USArrival Immigration StatusAre you employed? *YesNoDo you hold GED or High School Diploma from any country?  *YesNoIf YES\, the school name\, year and countryIf No\, would you be interested in getting GED?Do you own a home? (Please answer with yes or no) *YesNoSubmit
URL:https://thebaci.org/event/orientation-for-the-next-level-jobs-opportunities/
LOCATION:4925 Shelby St\, Indianapolis\, IN 46227
CATEGORIES:Education,Employment,Partnership and Collaboration,Programs,Service,Training and Orientation
ATTACH;FMTTYPE=image/jpeg:https://thebaci.org/wp-content/uploads/2024/11/BACI-SEED-Program-Flyer.jpg
ORGANIZER;CN="Burmese American Community Institute":MAILTO:info@baci-indy.org
END:VEVENT
BEGIN:VEVENT
DTSTART;TZID=America/Indiana/Indianapolis:20240909T173000
DTEND;TZID=America/Indiana/Indianapolis:20240909T193000
DTSTAMP:20260424T054939
CREATED:20240826T180157Z
LAST-MODIFIED:20240828T033348Z
UID:10858-1725903000-1725910200@thebaci.org
SUMMARY:ChildCare Licensure Program Application
DESCRIPTION:We are excited to announce that in partnership with the State of Indiana\, BACI will be implementing a Child Care Licensure Program focusing on Home-Based. \nTo participate in this\, there are two basic requirements \n\nHigh School Diploma (Can be a certificate or a transcript)\nID or Birth Certificate\n\nWe invite you to register through the form below. Orientation will be conducted in group or individually. \nOrientation Date: Sep 9\, 2024 \nTime: 5:30PM \nIf you have any questions\, please call us at 317-7321-5537 for the EMED team or you can also stop by our office during office hours. \nPlease enable JavaScript in your browser to complete this form.Please enable JavaScript in your browser to complete this form.Name *Email *Phone # *Address (Include zip code) *Date of Arrival in the US *Which Church/Organization you affliliated with? *How many children do you have in your family who are under 13 years old? *How many of the child(ren) is (are) your own child? *Are you employed? *YesNoDo you hold GED or High School Diploma from any country?  *YesNoIf YES\, the school name\, year and countryIf No\, would you be interested in getting GED?Do you own a home? (Please answer with yes or no) *YesNoSubmit   \n 
URL:https://thebaci.org/event/childcare-licensure-program-application-2/
LOCATION:4925 Shelby St\, Indianapolis\, IN 46227
CATEGORIES:Community,Education,Employment,Programs,Training and Orientation
ATTACH;FMTTYPE=image/jpeg:https://thebaci.org/wp-content/uploads/2024/08/Childcare-FLyer-scaled.jpg
END:VEVENT
BEGIN:VEVENT
DTSTART;TZID=America/Indiana/Indianapolis:20240328T080000
DTEND;TZID=America/Indiana/Indianapolis:20260228T170000
DTSTAMP:20260424T054939
CREATED:20240328T110714Z
LAST-MODIFIED:20251210T165917Z
UID:10470-1711612800-1772298000@thebaci.org
SUMMARY:TPS\, Asylum\, Family Petition - Immigration Service Interest Form
DESCRIPTION:Please fill out the following form and our Immigration Service Team will be in touch you to follow up. \nPlease enable JavaScript in your browser to complete this form.Please enable JavaScript in your browser to complete this form.Name *FirstLastEmail *PhoneWhich service you are looking for?  *TPS ApplicationAsylum ApplicationFamily PetitionOtherIf other... *Comment or Message *PhoneSubmit
URL:https://thebaci.org/event/tps-asylum-family-petition-immigration-service-interest-form/
CATEGORIES:Community,Immigration and Legal Services,Programs,Training and Orientation
ATTACH;FMTTYPE=image/jpeg:https://thebaci.org/wp-content/uploads/2024/03/TPS-Asylum-Flyer-scaled.jpg
END:VEVENT
BEGIN:VEVENT
DTSTART;TZID=America/Indiana/Indianapolis:20240108T173000
DTEND;TZID=America/Indiana/Indianapolis:20240229T193000
DTSTAMP:20260424T054939
CREATED:20231213T190722Z
LAST-MODIFIED:20240121T225408Z
UID:10081-1704735000-1709235000@thebaci.org
SUMMARY:ChildCare Licensure Program Application
DESCRIPTION:We are excited to announce that in partnership with the State of Indiana\, BACI will be implementing a Child Care Licensure Program including Home-Based and Center-Based. \nTo participate in this\, there are two basic requirements \n\nHigh School Diploma (Can be a certificate or a transcript from Burma\, in the US or anywhere).\nID or Birth Certificate\n\nWe invite you to register today at the registration link or by scanning QR code on the flyer. Orientation will be conducted in group or individually. We will contact you for the date of orientation once you register (Note: The first orientation for the first group of women was held on Jan 8th from 5:30PM-7:30PM.) \nIf you have any questions\, please call us at 317-731-5537 for the EMED team or you can also stop by our office during office hours. \nPlease enable JavaScript in your browser to complete this form.Please enable JavaScript in your browser to complete this form.Name *Address *Date of Arrival in the US *PhoneEmailWhich church/organization you affiliated with? *How many children do you have in your family who are under 13 years old? *How many of the child(ren) is (are) your own child? *Are you employed? (please answer yes or no) *If NO\, is this due to lack of childcare support? (please answer with yes or no)Will you prefer working if you can find a licensed home-based childcare provider\, who is linguistically and culturally competent? (please answer with yes or no) *What major considerations would you have when looking for childcare for your children? Please list examples: (Nangmah na fa lei childcare ah chiah ding siseh law\, zei pawl khi dah a biapi bik tiah na ruah? Na ruahmi le tahchunhnak pawl chim tuah) *Will you be intersted in obtaining Home-Based Child Care License as your professional job\, if training would be provided? (Please answer with yes or no) *If NO\, what other types of professional training would you be mostly interested in? Please list examples *Your highest education *Completed High SchoolHold College Degree (or above)Some years of collegeNot completed High SchoolDo you hold GED or High School Diploma from any country? (Answer with yes or no) *If YES\, the school name\, year and country *Do you own a home? (Please answer with yes or no) *Submit
URL:https://thebaci.org/event/childcare-licensure-program-application/
LOCATION:4925 Shelby St\, Indianapolis\, IN 46227
CATEGORIES:Programs,Training and Orientation
ATTACH;FMTTYPE=image/png:https://thebaci.org/wp-content/uploads/2023/12/Childcare-Licensure-Program-3.png
END:VEVENT
BEGIN:VEVENT
DTSTART;TZID=America/Indiana/Indianapolis:20230804T170000
DTEND;TZID=America/Indiana/Indianapolis:20230804T210000
DTSTAMP:20260424T054939
CREATED:20230719T110721Z
LAST-MODIFIED:20230803T174945Z
UID:9383-1691168400-1691182800@thebaci.org
SUMMARY:BACI 12th Annual Research Presentation Day
DESCRIPTION:Researchers from the Upward College Summer Scholars Program 2023\, under the BACI’s Center for Research\, Policy\, and Innovation (CRPI – USA)\, will present their research findings and solution-oriented policy action recommendations for stakeholders as the culmination of a 10-week intensive scientific PAR research project. \nThe study this summer include the following eight topics: \n\nCollege Going Rate Among Burmese-American Students\nCollege Persistence Among Burmese-American Students\nCommunity Integration and Political Participation\nEqual Employment Opportunity & Career Pathways\nGlobal Climate Change & Its Impact on the Local Communities\nMental Health in Burmese American Community\nSocial Media & Its Impact on the Youths\nU.S. Refugee Resettlement Program and Secondary Migration\n\nCommunity members and stakeholders are invited.\nPlease enable JavaScript in your browser to complete this form.Please enable JavaScript in your browser to complete this form.YOUR DETAILSName *FirstLastEmail *PhoneOrganization/Church *Address (optional)Address Line 1Address Line 2CityState / Province / RegionPostal CodeAfghanistanAlbaniaAlgeriaAmerican SamoaAndorraAngolaAnguillaAntarcticaAntigua and BarbudaArgentinaArmeniaArubaAustraliaAustriaAzerbaijanBahamasBahrainBangladeshBarbadosBelarusBelgiumBelizeBeninBermudaBhutanBolivia (Plurinational State of)Bonaire\, Saint Eustatius and SabaBosnia and HerzegovinaBotswanaBouvet IslandBrazilBritish Indian Ocean TerritoryBrunei DarussalamBulgariaBurkina FasoBurundiCabo VerdeCambodiaCameroonCanadaCayman IslandsCentral African RepublicChadChileChinaChristmas IslandCocos (Keeling) IslandsColombiaComorosCongoCongo (Democratic Republic of the)Cook IslandsCosta RicaCroatiaCubaCuraçaoCyprusCzech RepublicCôte d'IvoireDenmarkDjiboutiDominicaDominican RepublicEcuadorEgyptEl SalvadorEquatorial GuineaEritreaEstoniaEswatini (Kingdom of)EthiopiaFalkland Islands (Malvinas)Faroe IslandsFijiFinlandFranceFrench GuianaFrench PolynesiaFrench Southern TerritoriesGabonGambiaGeorgiaGermanyGhanaGibraltarGreeceGreenlandGrenadaGuadeloupeGuamGuatemalaGuernseyGuineaGuinea-BissauGuyanaHaitiHeard Island and McDonald IslandsHondurasHong KongHungaryIcelandIndiaIndonesiaIran (Islamic Republic of)IraqIreland (Republic of)Isle of ManIsraelItalyJamaicaJapanJerseyJordanKazakhstanKenyaKiribatiKorea (Democratic People's Republic of)Korea (Republic of)KosovoKuwaitKyrgyzstanLao People's Democratic RepublicLatviaLebanonLesothoLiberiaLibyaLiechtensteinLithuaniaLuxembourgMacaoMadagascarMalawiMalaysiaMaldivesMaliMaltaMarshall IslandsMartiniqueMauritaniaMauritiusMayotteMexicoMicronesia (Federated States of)Moldova (Republic of)MonacoMongoliaMontenegroMontserratMoroccoMozambiqueMyanmarNamibiaNauruNepalNetherlandsNew CaledoniaNew ZealandNicaraguaNigerNigeriaNiueNorfolk IslandNorth Macedonia (Republic of)Northern Mariana IslandsNorwayOmanPakistanPalauPalestine (State of)PanamaPapua New GuineaParaguayPeruPhilippinesPitcairnPolandPortugalPuerto RicoQatarRomaniaRussian FederationRwandaRéunionSaint BarthélemySaint Helena\, Ascension and Tristan da CunhaSaint Kitts and NevisSaint LuciaSaint Martin (French part)Saint Pierre and MiquelonSaint Vincent and the GrenadinesSamoaSan MarinoSao Tome and PrincipeSaudi ArabiaSenegalSerbiaSeychellesSierra LeoneSingaporeSint Maarten (Dutch part)SlovakiaSloveniaSolomon IslandsSomaliaSouth AfricaSouth Georgia and the South Sandwich IslandsSouth SudanSpainSri LankaSudanSurinameSvalbard and Jan MayenSwedenSwitzerlandSyrian Arab RepublicTaiwan\, Republic of ChinaTajikistanTanzania (United Republic of)ThailandTimor-LesteTogoTokelauTongaTrinidad and TobagoTunisiaTurkmenistanTurks and Caicos IslandsTuvaluTürkiyeUgandaUkraineUnited Arab EmiratesUnited Kingdom of Great Britain and Northern IrelandUnited States Minor Outlying IslandsUnited States of AmericaUruguayUzbekistanVanuatuVatican City StateVenezuela (Bolivarian Republic of)VietnamVirgin Islands (British)Virgin Islands (U.S.)Wallis and FutunaWestern SaharaYemenZambiaZimbabweÅland IslandsCountryAre you registering as a *High School StudentCollege StudentParents of Research ScholarsCommunity MembersFriends and PartnersOtherComment/tell us anything you would like us to know (optional).Submit
URL:https://thebaci.org/event/baci-12th-annual-research-presentation-day/
LOCATION:UIndy Hall (Schwitzer Student Center) University of Indianapolis\, 1400 Campus Dr\, Indianapolis\, IN\, 46227\, United States
CATEGORIES:College & University,Cultural and People,Education,Food and People,Health,Higher Education,Programs,Scholarship,Sports and Games,Training and Orientation
ATTACH;FMTTYPE=image/jpeg:https://thebaci.org/wp-content/uploads/2023/07/12th-Annual-Research-Presentation-Flyer-scaled.jpg
ORGANIZER;CN="Burmese American Community Institute":MAILTO:info@baci-indy.org
END:VEVENT
BEGIN:VEVENT
DTSTART;TZID=America/Indiana/Indianapolis:20230801T173000
DTEND;TZID=America/Indiana/Indianapolis:20230929T220000
DTSTAMP:20260424T054939
CREATED:20230706T185031Z
LAST-MODIFIED:20230821T222038Z
UID:9285-1690911000-1696024800@thebaci.org
SUMMARY:Community Awards Dinner - 30 Years of Burmese Community in Central Indiana
DESCRIPTION:Community Awards Dinner in celebration of 30 Years of Burmese Community in Central Indiana will be held on July 12\, 2023 at 5:30 PM at CEBC Life Center located at 5610 S Meridian St\, Indianapolis\, IN 46217. \nAt this historic event\, the outstanding Burmese individuals and organizations (all ethnic groups of Burma/Myanmar inclusively) in various categories in the past 30 years will be recognized for their outstanding accomplishments and their contributions to the greater good of our shared community. We will also feature keynotes\, cultural performances\, music and other special items. \nClick here for Nomination Forms.
URL:https://thebaci.org/event/community-awards-dinner-30-years-of-burmese-community-in-central-indiana/
LOCATION:CEBC-Indy Life Center\, 5610 South Meridian St\, Indianapolis\, IN\, 46217\, United States
CATEGORIES:Awards and Honors,College & University,Community,Cultural and People,Education,Food and People,Health,Higher Education,Partnership and Collaboration,Programs,Scholarship,Sports and Games,Training and Orientation
ATTACH;FMTTYPE=image/jpeg:https://thebaci.org/wp-content/uploads/2023/07/Nomination-Flyer-scaled.jpg
ORGANIZER;CN="Burmese American Community Institute":MAILTO:info@baci-indy.org
END:VEVENT
END:VCALENDAR