BEGIN:VCALENDAR
VERSION:2.0
PRODID:-//The official website of Burmese American Community Institute - ECPv6.15.11//NONSGML v1.0//EN
CALSCALE:GREGORIAN
METHOD:PUBLISH
X-ORIGINAL-URL:https://thebaci.org
X-WR-CALDESC:Events for The official website of Burmese American Community Institute
REFRESH-INTERVAL;VALUE=DURATION:PT1H
X-Robots-Tag:noindex
X-PUBLISHED-TTL:PT1H
BEGIN:VTIMEZONE
TZID:America/Indiana/Indianapolis
BEGIN:DAYLIGHT
TZOFFSETFROM:-0500
TZOFFSETTO:-0400
TZNAME:EDT
DTSTART:20240310T070000
END:DAYLIGHT
BEGIN:STANDARD
TZOFFSETFROM:-0400
TZOFFSETTO:-0500
TZNAME:EST
DTSTART:20241103T060000
END:STANDARD
BEGIN:DAYLIGHT
TZOFFSETFROM:-0500
TZOFFSETTO:-0400
TZNAME:EDT
DTSTART:20250309T070000
END:DAYLIGHT
BEGIN:STANDARD
TZOFFSETFROM:-0400
TZOFFSETTO:-0500
TZNAME:EST
DTSTART:20251102T060000
END:STANDARD
BEGIN:DAYLIGHT
TZOFFSETFROM:-0500
TZOFFSETTO:-0400
TZNAME:EDT
DTSTART:20260308T070000
END:DAYLIGHT
BEGIN:STANDARD
TZOFFSETFROM:-0400
TZOFFSETTO:-0500
TZNAME:EST
DTSTART:20261101T060000
END:STANDARD
END:VTIMEZONE
BEGIN:VEVENT
DTSTART;TZID=America/Indiana/Indianapolis:20250117T080000
DTEND;TZID=America/Indiana/Indianapolis:20250117T170000
DTSTAMP:20260425T214551
CREATED:20250118T021910Z
LAST-MODIFIED:20250118T023350Z
UID:11236-1737100800-1737133200@thebaci.org
SUMMARY:Text of Dr. Martin Luther King\, Jr. “Humanitarian Award” Acceptance Speech by BACI Executive Director Elaisa Vahnie
DESCRIPTION:First of all\, I THANK GOD for this Day. I am truly humbled by this award. This honor is a recognition of the entire Burmese community\, all our friends and all our partners. \nWe are grateful to the American people\, and our Hoosier neighbors for welcoming us and allowing us to start our new lives here in this land of freedom and opportunity. \nBut\, it was also our shared interest and clear conviction that guided us to empower newcomers to become self-sufficient\, productive and contributing citizens of society as quickly as possible. To me\, this is the Power of Unity. \nWe are deeply appreciative and profoundly thankful to our state and national leaders for creating and fostering a policy environment in which everyone is welcome\, and treated equally with respect and dignity. That to me also is the type of UNITY I believe Dr. Martin Luther King envisioned. \nThe progress and positive impact we see today in our shared communities is a testament to the partnerships we have forged together. Coming together like this cohesively in harmony is for me the Unity we all want to embrace and celebrate. \nAllow me to say this also. Where there isn’t full Unity\, our freedom may be impaired with fear\, and we therefore would not be fully free. Then struggle for democracy might never end. This is especially true in societies and countries like Myanmar where a civil war rages as we speak. \nBut I tell my community\, our people\, “We DO NOT Take Things for Granted. For freedom comes with responsibilities. Equality is best achieved when everyone is given opportunity\, and in America\, everyone can dream the American dream because\, in fact\, that opportunity is given freely.” \nAs we move forward\, with the theme of the power and future of Unity\, I sincerely look forward to strengthening our partnerships\, and collaboratively working with you the ICRC\, Mr. Wilson\, Honorable [Governor Bruan]\, Lieutenant Governor\, and all Hoosiers for humanity and for greater good. Thank you.
URL:https://thebaci.org/event/text-of-dr-martin-luther-king-jr-humanitarian-award-acceptance-speech-by-baci-executive-director-elaisa-vahnie/
CATEGORIES:Awards and Honors,Community
ATTACH;FMTTYPE=image/jpeg:https://thebaci.org/wp-content/uploads/2025/01/558A5185_2000_2.jpg
END:VEVENT
END:VCALENDAR